BEGIN:VCALENDAR
VERSION:2.0
PRODID:-//VivoEnMX - ECPv6.15.17//NONSGML v1.0//EN
CALSCALE:GREGORIAN
METHOD:PUBLISH
X-WR-CALNAME:VivoEnMX
X-ORIGINAL-URL:https://vivoen.mx
X-WR-CALDESC:Eventos para VivoEnMX
REFRESH-INTERVAL;VALUE=DURATION:PT1H
X-Robots-Tag:noindex
X-PUBLISHED-TTL:PT1H
BEGIN:VTIMEZONE
TZID:America/New_York
BEGIN:DAYLIGHT
TZOFFSETFROM:-0500
TZOFFSETTO:-0400
TZNAME:EDT
DTSTART:20180311T070000
END:DAYLIGHT
BEGIN:STANDARD
TZOFFSETFROM:-0400
TZOFFSETTO:-0500
TZNAME:EST
DTSTART:20181104T060000
END:STANDARD
BEGIN:DAYLIGHT
TZOFFSETFROM:-0500
TZOFFSETTO:-0400
TZNAME:EDT
DTSTART:20190310T070000
END:DAYLIGHT
BEGIN:STANDARD
TZOFFSETFROM:-0400
TZOFFSETTO:-0500
TZNAME:EST
DTSTART:20191103T060000
END:STANDARD
BEGIN:DAYLIGHT
TZOFFSETFROM:-0500
TZOFFSETTO:-0400
TZNAME:EDT
DTSTART:20200308T070000
END:DAYLIGHT
BEGIN:STANDARD
TZOFFSETFROM:-0400
TZOFFSETTO:-0500
TZNAME:EST
DTSTART:20201101T060000
END:STANDARD
BEGIN:DAYLIGHT
TZOFFSETFROM:-0500
TZOFFSETTO:-0400
TZNAME:EDT
DTSTART:20210314T070000
END:DAYLIGHT
BEGIN:STANDARD
TZOFFSETFROM:-0400
TZOFFSETTO:-0500
TZNAME:EST
DTSTART:20211107T060000
END:STANDARD
BEGIN:DAYLIGHT
TZOFFSETFROM:-0500
TZOFFSETTO:-0400
TZNAME:EDT
DTSTART:20220313T070000
END:DAYLIGHT
BEGIN:STANDARD
TZOFFSETFROM:-0400
TZOFFSETTO:-0500
TZNAME:EST
DTSTART:20221106T060000
END:STANDARD
BEGIN:DAYLIGHT
TZOFFSETFROM:-0500
TZOFFSETTO:-0400
TZNAME:EDT
DTSTART:20230312T070000
END:DAYLIGHT
BEGIN:STANDARD
TZOFFSETFROM:-0400
TZOFFSETTO:-0500
TZNAME:EST
DTSTART:20231105T060000
END:STANDARD
BEGIN:DAYLIGHT
TZOFFSETFROM:-0500
TZOFFSETTO:-0400
TZNAME:EDT
DTSTART:20240310T070000
END:DAYLIGHT
BEGIN:STANDARD
TZOFFSETFROM:-0400
TZOFFSETTO:-0500
TZNAME:EST
DTSTART:20241103T060000
END:STANDARD
END:VTIMEZONE
BEGIN:VEVENT
DTSTART;TZID=America/New_York:20190118T190000
DTEND;TZID=America/New_York:20190118T220000
DTSTAMP:20260424T221554
CREATED:20190115T201737Z
LAST-MODIFIED:20190115T201737Z
UID:596226-1547838000-1547848800@vivoen.mx
SUMMARY:Tarde de Películas
DESCRIPTION:Exponiendo el arte y talento de nuestra gente\, te invitamos a ver películas echas por Directores Mexicanos. Pásate una tarde a gusto con tu cafecito y palomitas. Empezamos este 28 de Diciembre 2018 7pm con NiÑos del Hombre de Alfonso Cuarón. Consumo mínimo $24\, tendremos palomitas disponibles. Si tienes alguna película que quieras ver no dudes en contactarnos. Llegar 15 o 20 minutos temprano para escoger tu mesa. \nLeobardo MartinezTrabajando por Cancun\, Coordinador de VivoEnCancun creador de VivoEnMX y LM Comunicación
URL:https://vivoen.mx/evento/tarde-de-peliculas/
LOCATION:Surf Cafe\, Xpuhil No 14 sm26\, Cancún\, Quintana Roo\, 77509\, México
CATEGORIES:Arte y Cultura,Cancún,Cine,Gastronomía
ATTACH;FMTTYPE=image/jpeg:https://vivoen.mx/wp-content/uploads/2019/01/Tarde-de-peliculas.jpg
ORGANIZER;CN="Surf Cafe":MAILTO:surfcafecancun@gmail.com
END:VEVENT
BEGIN:VEVENT
DTSTART;TZID=America/New_York:20190118T193000
DTEND;TZID=America/New_York:20190118T213000
DTSTAMP:20260424T221554
CREATED:20190115T210731Z
LAST-MODIFIED:20190115T210731Z
UID:596229-1547839800-1547847000@vivoen.mx
SUMMARY:Circulo de música medicina
DESCRIPTION:Con mucho cariño te invitamos a esta convivencia musical para juntos recobrar el asombro olvidado de estar vivos y sentirnos plenos por ese simple\, maravilloso\, misterioso y mágico hecho. Vamos juntos a cantar\, respirar\, bailar y sumar a la Consciencia de Amor y Unidad que tanto necesitamos en esta bella y misteriosa Tierra que habitamos.\nRecuerda que se seguiran recibiendo donativos para La casa de Don Pascual a.c \nTrae tu instrumento\, tu voz y corazón dispuestos\, niños bienvenidos. 🙂\nLink google maps –> https://goo.gl/maps/98VxtVTr51x \nLeobardo MartinezTrabajando por Cancun\, Coordinador de VivoEnCancun creador de VivoEnMX y LM Comunicación
URL:https://vivoen.mx/evento/circulo-de-musica-medicina/
LOCATION:Quintana Roo
CATEGORIES:Cancún,Musica
ATTACH;FMTTYPE=image/jpeg:https://vivoen.mx/wp-content/uploads/2019/01/circulo-de-cantos.jpg
END:VEVENT
BEGIN:VEVENT
DTSTART;TZID=America/New_York:20190118T203000
DTEND;TZID=America/New_York:20190118T220000
DTSTAMP:20260424T221554
CREATED:20190115T221031Z
LAST-MODIFIED:20190115T221031Z
UID:596232-1547843400-1547848800@vivoen.mx
SUMMARY:Letras lascivas. Capítulo 4
DESCRIPTION:La Tlacuila y La Mancha Cafebrería te invitan a esta sesión donde puedes compartir y escuchar textos eróticos\, desde los más sutiles y sugestivos hasta los muy fuertes y controversiales. \nLa literatura erótica\, como la vida\, es muy amplia; a veces muy estimulante y en otras ocasiones hasta nos desconcierta.\nSabemos que los gustos son diversos y la sexualidad compleja\, así que partimos del respeto para permitir las lecturas de los otros\, sin censura. \n*Te recomendamos llegar una media hora antes para revisar los libros que tiene La Mancha Cafebrería\, en renta o en venta.\n*Durante la actividad\, puedes compartir textos cortos o fragmentos. Contempla ensayar antes tu lectura para que puedas comunicar mejor en voz alta lo que dicen las palabras.\n*También puedes venir solo de oyente. Invita a quien gustes\, ¡es GRATIS!\n*Y si tienes antojo\, puedes apoyar a nuestra sede y degustar un café\, un pan… A varios tlacus les ha gustado mucho el té chai de ahí.\n·\nHORARIO DE ACTIVIDAD: 8:30 p. m. a 10:00 p. m.\nUBICACIÓN: https://goo.gl/maps/kDnNwt2qpJJ2\nav. Bonampak (ya casi para dar la vuelta hacia el circuito vial)\, en Plaza Cabo Catoche (donde está Panelier y el restaurante Pachamama)\, frente a TecMilenio\, a lado del Audi.\n·\nMediadora: Lizbeth Peña\, con diplomas en mediación de lectura (UAM-Xochimilco/Secretaría de Cultura) y en enseñanza en la escritura creativa (Skribalia).\n·\nOrganiza: La Tlacuila. Desde el 2009 pertenece al Programa Nacional Salas de Lectura y forma parte de los proyectos de Tokonoma – Espacio creativo. Tenemos préstamo de libros\, grupos de lectura\, proyecciones y diversas actividades*. Visita nuestra página: www.tokonoma.com.mx \nLeobardo MartinezTrabajando por Cancun\, Coordinador de VivoEnCancun creador de VivoEnMX y LM Comunicación
URL:https://vivoen.mx/evento/letras-lascivas-capitulo-4/
LOCATION:La Mancha Cafebrería\, av. bonampak\, Cabo Catoche esq\, 9\, Cancún\, Quintana Roo\, 77504\, México
CATEGORIES:Arte y Cultura,Cancún,Charlas,Literatura
ATTACH;FMTTYPE=image/jpeg:https://vivoen.mx/wp-content/uploads/2019/01/letras.jpg
ORGANIZER;CN="La Tlacuila":MAILTO:latlacuila@gmail.com
END:VEVENT
BEGIN:VEVENT
DTSTART;VALUE=DATE:20230505
DTEND;VALUE=DATE:20230509
DTSTAMP:20260424T221554
CREATED:20230503T161159Z
LAST-MODIFIED:20230503T161226Z
UID:596663-1683244800-1683590399@vivoen.mx
SUMMARY:Bazar Boss Lady 6a Edición
DESCRIPTION:Nos vemos este 5 y 6 de Mayo\, en el auditorio Stoa en el evento más esperado del año\, BAZAR BOSS LADY\, evento familiar con lo mejor del comercio local\, food trucks\, shows\, workshops\, photo opportunities y el mejor ambiente.\nENTRADA GRATUITA!!! Ven con toda la familia!!! Tendremos valet parking gratuito para tu comodidad.\nNo puedes faltar!!! Let’s SHINE together!!! \nLeobardo MartinezTrabajando por Cancun\, Coordinador de VivoEnCancun creador de VivoEnMX y LM Comunicación
URL:https://vivoen.mx/evento/bazar-boss-lady-6a-edicion/
LOCATION:Stoa Auditorio Cancún\, Av. Alamos /Acacias y Abeto Sm.313\, Cancún\, Quintana Roo\, 77500\, México
CATEGORIES:Arte y Cultura,Cancún
ATTACH;FMTTYPE=image/jpeg:https://vivoen.mx/wp-content/uploads/2023/05/337269911_3549302478631908_8682081764623132040_n-e1683130398511.jpg
END:VEVENT
BEGIN:VEVENT
DTSTART;VALUE=DATE:20230512
DTEND;VALUE=DATE:20230514
DTSTAMP:20260424T221554
CREATED:20230502T174319Z
LAST-MODIFIED:20230502T174454Z
UID:596633-1683849600-1684022399@vivoen.mx
SUMMARY:Travesía Sagrada Xcaret
DESCRIPTION:Los preparativos para la Travesía Sagrada Maya 2023 han iniciado. Los valerosos canoeros se embarcarán para realizar el ancestral viaje atravesando el mar Caribe con dirección a la isla de Cozumel. \nLeobardo MartinezTrabajando por Cancun\, Coordinador de VivoEnCancun creador de VivoEnMX y LM Comunicación
URL:https://vivoen.mx/evento/travesia-sagrada-xcaret/
LOCATION:Xcaret\, Carretera Chetumal-Puerto Juárez\, Km. 282.\, Playa del Carmen\, Quintana Roo\, México
ATTACH;FMTTYPE=image/jpeg:https://vivoen.mx/wp-content/uploads/2023/05/343179042_769791628047835_1372994659726487929_n.jpg
END:VEVENT
END:VCALENDAR