BEGIN:VCALENDAR
VERSION:2.0
PRODID:-//VivoEnMX - ECPv6.15.17//NONSGML v1.0//EN
CALSCALE:GREGORIAN
METHOD:PUBLISH
X-WR-CALNAME:VivoEnMX
X-ORIGINAL-URL:https://vivoen.mx
X-WR-CALDESC:Eventos para VivoEnMX
REFRESH-INTERVAL;VALUE=DURATION:PT1H
X-Robots-Tag:noindex
X-PUBLISHED-TTL:PT1H
BEGIN:VTIMEZONE
TZID:America/New_York
BEGIN:DAYLIGHT
TZOFFSETFROM:-0500
TZOFFSETTO:-0400
TZNAME:EDT
DTSTART:20180311T070000
END:DAYLIGHT
BEGIN:STANDARD
TZOFFSETFROM:-0400
TZOFFSETTO:-0500
TZNAME:EST
DTSTART:20181104T060000
END:STANDARD
BEGIN:DAYLIGHT
TZOFFSETFROM:-0500
TZOFFSETTO:-0400
TZNAME:EDT
DTSTART:20190310T070000
END:DAYLIGHT
BEGIN:STANDARD
TZOFFSETFROM:-0400
TZOFFSETTO:-0500
TZNAME:EST
DTSTART:20191103T060000
END:STANDARD
BEGIN:DAYLIGHT
TZOFFSETFROM:-0500
TZOFFSETTO:-0400
TZNAME:EDT
DTSTART:20200308T070000
END:DAYLIGHT
BEGIN:STANDARD
TZOFFSETFROM:-0400
TZOFFSETTO:-0500
TZNAME:EST
DTSTART:20201101T060000
END:STANDARD
END:VTIMEZONE
BEGIN:VEVENT
DTSTART;TZID=America/New_York:20190114T170000
DTEND;TZID=America/New_York:20190114T190000
DTSTAMP:20260424T202608
CREATED:20190107T183327Z
LAST-MODIFIED:20190114T181001Z
UID:596204-1547485200-1547492400@vivoen.mx
SUMMARY:Charla Tres Virtudes. Hoy: Valentía para el Cambio
DESCRIPTION:Bertha Ruiz es experta en Leyes Universales y Arcanos Mayores. \n¿De qué manera estas herramientas nos sirven en nuestra vida diaria? Descúbrelo en estas CHARLAS GRATUITAS. \nTEMA DE HOY: VALENTÍA PARA EL CAMBIO \nCita: Lunes 7\, 14 y 21 de enero\nLa Casa del Árbol\n17:00 a 19:00 horas\nEntrada libre \nLeobardo MartinezTrabajando por Cancun\, Coordinador de VivoEnCancun creador de VivoEnMX y LM Comunicación
URL:https://vivoen.mx/evento/charla-tres-virtudes-templanza/
LOCATION:La Casa del Arbol\, Calle Punta Conoco #12 SM24\, Cancún\, Quintana Roo\, México
CATEGORIES:Cancún,Charlas
ATTACH;FMTTYPE=image/jpeg:https://vivoen.mx/wp-content/uploads/2019/01/tres-virtudes.jpg
ORGANIZER;CN="La Casa del Arbol":MAILTO:lacasadelarbol.cun@gmail.com
END:VEVENT
BEGIN:VEVENT
DTSTART;TZID=America/New_York:20190114T200000
DTEND;TZID=America/New_York:20190114T230000
DTSTAMP:20260424T202608
CREATED:20190114T182343Z
LAST-MODIFIED:20190114T182343Z
UID:596214-1547496000-1547506800@vivoen.mx
SUMMARY:Cine Malix: The Royal Tenenbaums
DESCRIPTION:The Royal Tenenbaums\nLunes 14 de Enero · 8pm\nEntrada libre | #AdoptaCine \nDirector: Wes Anderson\nAño: 2001\nActores: Gene Hackman\, Anjelica Huston\, Ben Stiller\, Gwyneth Paltrow\, Luke Wilson\, Owen Wilson.\nClasificación: B15\nDuración: 110 min \nSinopsis: Tras 17 años separado de su familia\, Royal Tenenbaum organiza una reunión fingiendo que le quedan pocas semanas de vida. El hombre pretende recuperar a sus tres hijos\, antiguos niños prodigio\, y su esposa\, quien está a punto de volver a casarse. Esta comedia dramática supuso el primer éxito internacional de Wes Anderson y consolidó gran parte de su estilo cinematográfico. La cinta sobresale por su humor negro y una estilizada puesta en escena que subvierten las crisis emocionales de los personajes. \nLeobardo MartinezTrabajando por Cancun\, Coordinador de VivoEnCancun creador de VivoEnMX y LM Comunicación
URL:https://vivoen.mx/evento/cine-malix-the-royal-tenenbaums/
LOCATION:AMMA Food Park Experience\, Av Huayacan SM 313 Mz 341 Lote 01\, Cancún\, Quintana Roo\, 77560\, México
CATEGORIES:Arte y Cultura,Cancún,Cine
ATTACH;FMTTYPE=image/jpeg:https://vivoen.mx/wp-content/uploads/2019/01/Royal-Tennembaums.jpg
ORGANIZER;CN="Cine Malix":MAILTO:correo.malix@gmail.com
END:VEVENT
END:VCALENDAR