BEGIN:VCALENDAR
VERSION:2.0
PRODID:-//VivoEnMX - ECPv6.15.17//NONSGML v1.0//EN
CALSCALE:GREGORIAN
METHOD:PUBLISH
X-WR-CALNAME:VivoEnMX
X-ORIGINAL-URL:https://vivoen.mx
X-WR-CALDESC:Eventos para VivoEnMX
REFRESH-INTERVAL;VALUE=DURATION:PT1H
X-Robots-Tag:noindex
X-PUBLISHED-TTL:PT1H
BEGIN:VTIMEZONE
TZID:America/New_York
BEGIN:DAYLIGHT
TZOFFSETFROM:-0500
TZOFFSETTO:-0400
TZNAME:EDT
DTSTART:20180311T070000
END:DAYLIGHT
BEGIN:STANDARD
TZOFFSETFROM:-0400
TZOFFSETTO:-0500
TZNAME:EST
DTSTART:20181104T060000
END:STANDARD
BEGIN:DAYLIGHT
TZOFFSETFROM:-0500
TZOFFSETTO:-0400
TZNAME:EDT
DTSTART:20190310T070000
END:DAYLIGHT
BEGIN:STANDARD
TZOFFSETFROM:-0400
TZOFFSETTO:-0500
TZNAME:EST
DTSTART:20191103T060000
END:STANDARD
BEGIN:DAYLIGHT
TZOFFSETFROM:-0500
TZOFFSETTO:-0400
TZNAME:EDT
DTSTART:20200308T070000
END:DAYLIGHT
BEGIN:STANDARD
TZOFFSETFROM:-0400
TZOFFSETTO:-0500
TZNAME:EST
DTSTART:20201101T060000
END:STANDARD
END:VTIMEZONE
BEGIN:VEVENT
DTSTART;TZID=America/New_York:20190110T193000
DTEND;TZID=America/New_York:20190110T210000
DTSTAMP:20260424T202607
CREATED:20190107T204629Z
LAST-MODIFIED:20190107T204629Z
UID:596210-1547148600-1547154000@vivoen.mx
SUMMARY:Dirección Estratégica para Financieros.
DESCRIPTION:«Dirección Estratégica para Financieros.» \nConferencia impartida por:\nDR. FERNANDO GRANADOS RUIZ \nDoctorado en Administración con especialidad en Estrategia. Instituto Tecnológico y de Estudios Superiores de Monterrey Campus Ciudad de México\, cursos en la University of North Carolina Chapel Hill 2007: Tesis “Relación entre factores perceptuales y la disposición de los gerentes a la implantación de la estrategia” . \nProfesor de Planta de la Facultad de Economía y Negocios. Imparte materias del área de negocios en licenciatura y posgrado\, es Asesor de tesis doctorales\, sus líneas de investigación son: Estrategia y Emprendimiento corporativo. \n10 de enero\, 2019\n19:30 a 21:00 horas\nAuditorio de la Universidad Anáhuac Cancún. \nLINK DE REGISTRO: https://goo.gl/forms/1IBXLoWnXi3dnYNx1 \nAl finalizar se ofrecerá una breve sesión informativa sobre la próxima apertura de la Maestría en Finanzas. \nEntrada libre. Indispensable confirmar asistencia.\nCUPO LIMITADO. \nInformes:\nRebeca Ruiz.\nrebeca.ruiz@anahuac.mx\nwhatsapp: 9983039015 \nLeobardo MartinezTrabajando por Cancun\, Coordinador de VivoEnCancun creador de VivoEnMX y LM Comunicación
URL:https://vivoen.mx/evento/direccion-estrategica-para-financieros/
LOCATION:Universidad Anahuac\, Blv Luis Donaldo Colosio KM 13.5\, Cancun\, Quintana Roo\, Mexico
CATEGORIES:Cancún,Conferencias
ORGANIZER;CN="Universidad An%C3%A1huac":MAILTO:elizabeth.gutierrez@anahuac.mx
END:VEVENT
END:VCALENDAR