BEGIN:VCALENDAR
VERSION:2.0
PRODID:-//VivoEnMX - ECPv6.15.17//NONSGML v1.0//EN
CALSCALE:GREGORIAN
METHOD:PUBLISH
X-ORIGINAL-URL:https://vivoen.mx
X-WR-CALDESC:Eventos para VivoEnMX
REFRESH-INTERVAL;VALUE=DURATION:PT1H
X-Robots-Tag:noindex
X-PUBLISHED-TTL:PT1H
BEGIN:VTIMEZONE
TZID:America/New_York
BEGIN:DAYLIGHT
TZOFFSETFROM:-0500
TZOFFSETTO:-0400
TZNAME:EDT
DTSTART:20170312T070000
END:DAYLIGHT
BEGIN:STANDARD
TZOFFSETFROM:-0400
TZOFFSETTO:-0500
TZNAME:EST
DTSTART:20171105T060000
END:STANDARD
BEGIN:DAYLIGHT
TZOFFSETFROM:-0500
TZOFFSETTO:-0400
TZNAME:EDT
DTSTART:20180311T070000
END:DAYLIGHT
BEGIN:STANDARD
TZOFFSETFROM:-0400
TZOFFSETTO:-0500
TZNAME:EST
DTSTART:20181104T060000
END:STANDARD
BEGIN:DAYLIGHT
TZOFFSETFROM:-0500
TZOFFSETTO:-0400
TZNAME:EDT
DTSTART:20190310T070000
END:DAYLIGHT
BEGIN:STANDARD
TZOFFSETFROM:-0400
TZOFFSETTO:-0500
TZNAME:EST
DTSTART:20191103T060000
END:STANDARD
END:VTIMEZONE
BEGIN:VEVENT
DTSTART;TZID=America/New_York:20181207T190000
DTEND;TZID=America/New_York:20181207T210000
DTSTAMP:20260424T185648
CREATED:20181204T001541Z
LAST-MODIFIED:20181204T001541Z
UID:596180-1544209200-1544216400@vivoen.mx
SUMMARY:OVNIS
DESCRIPTION:Exposición y análisis: ¿Existen los OVNIS? ¿Qué investigaciones hay al respecto? \nLeobardo MartinezTrabajando por Cancun\, Coordinador de VivoEnCancun creador de VivoEnMX y LM Comunicación
URL:https://vivoen.mx/evento/ovnis/
LOCATION:Planetario de Cancun\, Prolongación Avenida Palenque esquina con Av. Yaxchilan SM 21\, Cancun\, Cancun\, Mexico
CATEGORIES:Cancún,Ciencia y Tecnologia
ATTACH;FMTTYPE=image/jpeg:https://vivoen.mx/wp-content/uploads/2018/12/ovnis.jpg
END:VEVENT
BEGIN:VEVENT
DTSTART;TZID=America/New_York:20181207T193000
DTEND;TZID=America/New_York:20181207T203000
DTSTAMP:20260424T185648
CREATED:20181204T003610Z
LAST-MODIFIED:20181204T003610Z
UID:596183-1544211000-1544214600@vivoen.mx
SUMMARY:Taller de creación literaria con Natali
DESCRIPTION:Sesiones libres de creación literaria \nDedicado para todos aquellos amantes de los libros que están en el camino aventurero de escribir y encontrar su estilo.\nRecordamos la estructura básica del relato: Qué sí se vale para ser congruente en la estructura.\nUn poco de gramática y mucho de narratología. Tipos de narradores y tiempos verbales.\nLa diferencia básica entre cuento y novela. Uno es flaco y otro es gordo…\nAhora sí\, ¿por dónde empiezo? La contundencia de la primera línea.\nPráctica y más práctica para encontrar mi estilo. \n$90 por sesión para el moderador agradecido. Incluye tu cafecito.\nTrae libreta y pluma \nModera Nat Lago\nLic. Lengua y Literatura Hispánicas por la FES Acatlán\, UNAM.\nMención honorífica en el Segundo Concurso de Cuento “Ignacio Padilla 2017” Qurétaro\, Qro.\nModeradora en talleres de literatura en CDMX.\nVoluntaria del programa IBBY México a leer.\nCaminante\, escritora\, cantante\, terapeuta y lo que se le junte. \nLeobardo MartinezTrabajando por Cancun\, Coordinador de VivoEnCancun creador de VivoEnMX y LM Comunicación
URL:https://vivoen.mx/evento/taller-de-creacion-literaria-con-natali/
LOCATION:Surf Cafe\, Xpuhil No 14 sm26\, Cancún\, Quintana Roo\, 77509\, México
CATEGORIES:Arte y Cultura,Cancún
ATTACH;FMTTYPE=image/jpeg:https://vivoen.mx/wp-content/uploads/2018/12/creacion-literaria.jpg
ORGANIZER;CN="Surf Cafe":MAILTO:surfcafecancun@gmail.com
END:VEVENT
BEGIN:VEVENT
DTSTART;TZID=America/New_York:20181207T193000
DTEND;TZID=America/New_York:20181207T213000
DTSTAMP:20260424T185648
CREATED:20181204T005013Z
LAST-MODIFIED:20181204T005013Z
UID:596186-1544211000-1544218200@vivoen.mx
SUMMARY:Presentación "Hubo peces y lunas" y "Dibujar en la arena"
DESCRIPTION:Presentación de los libros «Hubo peces y lunas» y «Dibujar en la arena» \nLeobardo MartinezTrabajando por Cancun\, Coordinador de VivoEnCancun creador de VivoEnMX y LM Comunicación
URL:https://vivoen.mx/evento/presentacion-hubo-peces-y-lunas-y-dibujar-en-la-arena/
LOCATION:Centro Cultural de las Artes\, Avenida Tulum entre calle Liebre y Jabalí\, Cancun\, Quintana Roo\, Mexico
CATEGORIES:Arte y Cultura,Cancún
ATTACH;FMTTYPE=image/jpeg:https://vivoen.mx/wp-content/uploads/2018/12/dibujar-en-arena.jpg
ORGANIZER;CN="Colectivo colectivo":MAILTO:colectivocolectivocun@gmail.com
END:VEVENT
END:VCALENDAR