BEGIN:VCALENDAR
VERSION:2.0
PRODID:-//VivoEnMX - ECPv6.15.17//NONSGML v1.0//EN
CALSCALE:GREGORIAN
METHOD:PUBLISH
X-ORIGINAL-URL:https://vivoen.mx
X-WR-CALDESC:Eventos para VivoEnMX
REFRESH-INTERVAL;VALUE=DURATION:PT1H
X-Robots-Tag:noindex
X-PUBLISHED-TTL:PT1H
BEGIN:VTIMEZONE
TZID:America/New_York
BEGIN:DAYLIGHT
TZOFFSETFROM:-0500
TZOFFSETTO:-0400
TZNAME:EDT
DTSTART:20170312T070000
END:DAYLIGHT
BEGIN:STANDARD
TZOFFSETFROM:-0400
TZOFFSETTO:-0500
TZNAME:EST
DTSTART:20171105T060000
END:STANDARD
BEGIN:DAYLIGHT
TZOFFSETFROM:-0500
TZOFFSETTO:-0400
TZNAME:EDT
DTSTART:20180311T070000
END:DAYLIGHT
BEGIN:STANDARD
TZOFFSETFROM:-0400
TZOFFSETTO:-0500
TZNAME:EST
DTSTART:20181104T060000
END:STANDARD
BEGIN:DAYLIGHT
TZOFFSETFROM:-0500
TZOFFSETTO:-0400
TZNAME:EDT
DTSTART:20190310T070000
END:DAYLIGHT
BEGIN:STANDARD
TZOFFSETFROM:-0400
TZOFFSETTO:-0500
TZNAME:EST
DTSTART:20191103T060000
END:STANDARD
END:VTIMEZONE
BEGIN:VEVENT
DTSTART;TZID=America/New_York:20181117T060000
DTEND;TZID=America/New_York:20181118T120000
DTSTAMP:20260424T170421
CREATED:20181113T011417Z
LAST-MODIFIED:20181113T011417Z
UID:596152-1542434400-1542542400@vivoen.mx
SUMMARY:Triatlón Xel-Há 2018
DESCRIPTION:Por quinto año consecutivo\, Xel-Há será la sede oficial del Campeonato Nacional de Triatlón. Participa en esta 10a edición\, donde tu fuerza mental y física será acompañada por la inspiración de los paisajes espectaculares de Xel-Há. \nForma parte de esta justa deportiva el sábado 17 de noviembre (Triatlón Olímpico) y el domingo 18 de noviembre (Triatlón Sprint\, Infantil y Solo Novatas). \nLeobardo MartinezTrabajando por Cancun\, Coordinador de VivoEnCancun creador de VivoEnMX y LM Comunicación
URL:https://vivoen.mx/evento/triatlon-xel-ha-2018/
LOCATION:Xel Ha\, Carretera Chetumal-Puerto Juárez\, Km. 240\, Tulum\, Quintana Roo\, 77780\, México
CATEGORIES:Deporte
ATTACH;FMTTYPE=image/jpeg:https://vivoen.mx/wp-content/uploads/2018/11/TriatlónXelHa.jpg
END:VEVENT
BEGIN:VEVENT
DTSTART;TZID=America/New_York:20181117T110000
DTEND;TZID=America/New_York:20181117T190000
DTSTAMP:20260424T170421
CREATED:20181113T013102Z
LAST-MODIFIED:20181113T013102Z
UID:596158-1542452400-1542481200@vivoen.mx
SUMMARY:Fabricando comic con Edkkar
DESCRIPTION:🔜🔥 ¡Aprenderás a hacer sus propios cómics y cómo publicar en redes sus creaciones. #ExperienciaNawala con Edkkar autor de Aleatorio Vol.1\nhttps://www.instagram.com/edkkar\nhttps://www.facebook.com/edkkar.one\nhttps://www.behance.net/edkkar\n–\n#ANIVERSARIONAWALA 3.\nYa son 3 años de talleres\, eventos\, materiales bonitos. murales y mucho color! Celebramos con una agenda a precio especial\nen agradecimiento a estos 3 años !! **ATENTOS A PREMIOS Y BECAS A ESTE Y OTROS TALLERES DE AGENDA**\n– \nFABRICANDO COMIC\nTEMARIO: \n¿Qué s el cómic?\nTipos de Cómic.\nTerminología:\nElementos estructurales que forman un cómic: Viñetas\, Encuadres\, tipos de globos\, cajas de textos\, onomatopeyas\, calles\, sangre\, tipografías.\n–\nMi proceso creativo.\nLa importancia del guión y thumbnails\nNarrativa – Ritmo\nCreación de cómic en colectivo (misma historia\, propuestas individuales)\nCreación de tira cómica individual por cada asistente al taller.\nRetroalimentación\n–\nINCLUYE:\nMateriales básicos de bocetaje + Welcome Kit + Certificado + Rifa de Art Supplies !!!\n¿Te lo vas a perder? \nCOSTOS:\n$1000 **PRECIO REGULAR**\n–\n$850 Toma el taller «Fabricando Comic del 17 de Noviembre + Ilustración digital con photoshop + illustrator de Alex Lechuga el 8 de diciembre \nAsistentes a anteriores talleres : $750\n– \nProceso de isnscripción:\nINBOX hola@casanawala.com\n–\n#ExperienciaNawala parte de las actividades de Formación. \nLeobardo MartinezTrabajando por Cancun\, Coordinador de VivoEnCancun creador de VivoEnMX y LM Comunicación
URL:https://vivoen.mx/evento/fabricando-comic-con-edkkar/
LOCATION:Casa Diseño Nawala\, Sm3 Calle Mero #8\,\, Cancún\, Quintana Roo\, 77500\, México
CATEGORIES:Arte y Cultura,Cancún
ATTACH;FMTTYPE=image/jpeg:https://vivoen.mx/wp-content/uploads/2018/11/fabricando-comic.jpg
END:VEVENT
BEGIN:VEVENT
DTSTART;TZID=America/New_York:20181117T180000
DTEND;TZID=America/New_York:20181117T200000
DTSTAMP:20260424T170421
CREATED:20181113T013621Z
LAST-MODIFIED:20181113T013621Z
UID:596162-1542477600-1542484800@vivoen.mx
SUMMARY:Paseo Semana Nacional Contra la Diabetes
DESCRIPTION:En esta ocasión ayudaremos en la semana nacional contra la diabetes.\nHaremos una rodada por la ciudad para crear conciencia.\nTendremos 50 playeras para las primeras personas que lleguen\nTodos están invitados.\nRequisitos\nBicicleta en buenas condiciones\nSer mayor de 10 años\nNo se permiten bicicletas con llantitas para niños\nFavor de ir de color azul para apoyar a la causa \nLeobardo MartinezTrabajando por Cancun\, Coordinador de VivoEnCancun creador de VivoEnMX y LM Comunicación
URL:https://vivoen.mx/evento/paseo-semana-nacional-contra-la-diabetes/
LOCATION:Ayuntamiento Benito Juárez\, Av. Tulum No. 5 Km. 5\, Cancún\, Quintana Roo\, 77500\, México
CATEGORIES:Cancún,Deporte
ATTACH;FMTTYPE=image/jpeg:https://vivoen.mx/wp-content/uploads/2018/11/bici-cancun.jpg
END:VEVENT
END:VCALENDAR