BEGIN:VCALENDAR
VERSION:2.0
PRODID:-//VivoEnMX - ECPv6.15.17//NONSGML v1.0//EN
CALSCALE:GREGORIAN
METHOD:PUBLISH
X-ORIGINAL-URL:https://vivoen.mx
X-WR-CALDESC:Eventos para VivoEnMX
REFRESH-INTERVAL;VALUE=DURATION:PT1H
X-Robots-Tag:noindex
X-PUBLISHED-TTL:PT1H
BEGIN:VTIMEZONE
TZID:America/New_York
BEGIN:DAYLIGHT
TZOFFSETFROM:-0500
TZOFFSETTO:-0400
TZNAME:EDT
DTSTART:20170312T070000
END:DAYLIGHT
BEGIN:STANDARD
TZOFFSETFROM:-0400
TZOFFSETTO:-0500
TZNAME:EST
DTSTART:20171105T060000
END:STANDARD
BEGIN:DAYLIGHT
TZOFFSETFROM:-0500
TZOFFSETTO:-0400
TZNAME:EDT
DTSTART:20180311T070000
END:DAYLIGHT
BEGIN:STANDARD
TZOFFSETFROM:-0400
TZOFFSETTO:-0500
TZNAME:EST
DTSTART:20181104T060000
END:STANDARD
BEGIN:DAYLIGHT
TZOFFSETFROM:-0500
TZOFFSETTO:-0400
TZNAME:EDT
DTSTART:20190310T070000
END:DAYLIGHT
BEGIN:STANDARD
TZOFFSETFROM:-0400
TZOFFSETTO:-0500
TZNAME:EST
DTSTART:20191103T060000
END:STANDARD
END:VTIMEZONE
BEGIN:VEVENT
DTSTART;TZID=America/New_York:20181113T190000
DTEND;TZID=America/New_York:20181113T210000
DTSTAMP:20260424T170605
CREATED:20181112T184243Z
LAST-MODIFIED:20181112T184243Z
UID:596127-1542135600-1542142800@vivoen.mx
SUMMARY:Los genes en la literatura
DESCRIPTION:Una sesión para combinar la CIENCIA y la literatura \nPosibilidades para llevar a la sesión: *Textos cortos o fragmentos donde los genes tengan relevancia. *Recomendaciones de películas\, series\, canciones u obras plásticas relacionadas con el tema. *También puedes venir solo de oyente. ¡Es GRATIS!\n·\n¡Sesiones semanales los martes!*\nEn la terraza de Divertimento Taller de Artes Visuales [bajos del hotel Ibis\, sobre av. Acanceh\, casi esquina av. Nichupté].\n¿Horario?\nEstaremos de 7 p. m. a 9 p. m.\, tú ve en cuanto puedas\, aunque sea «tarde». 🙂\n¡ENTRADA LIBRE!\nY si gustas\, puedes apoyar a nuestra sede Divertimento y degustar un café\, un té\, un pan… mientras platicamos. \n¿Necesitas más información? ¡Escríbenos! www.facebook.com/latlacuila\nlatlacuila@gmail.com · WhatsApp: 9982 0572 72.\n·\nMediadora: Lizbeth Peña\, con diplomas en mediación de lectura (UAM-Xochimilco/Secretaría de Cultura) y en enseñanza en la escritura creativa (Skribalia).\n·\nLa Tlacuila pertenece desde el 2009 al Programa Nacional de Salas de Lectura y forma parte de los proyectos de Tokonoma – Espacio creativo. Tenemos préstamo de libros\, eventos y diversas actividades*. Visita nuestra página: www.tokonoma.com.mx/latlacuila \nLeobardo MartinezTrabajando por Cancun\, Coordinador de VivoEnCancun creador de VivoEnMX y LM Comunicación
URL:https://vivoen.mx/evento/los-genes-en-la-literatura/
LOCATION:Divertimento Taller\, Av.Acanceh Sm11 M2 Lote3 Local5 Plaza Terraviva\, Cancun\, Quintana Roo
CATEGORIES:Arte y Cultura,Cancún,Lecturas
ATTACH;FMTTYPE=image/jpeg:https://vivoen.mx/wp-content/uploads/2018/11/genes-y-literatura.jpg
ORGANIZER;CN="La Tlacuila":MAILTO:latlacuila@gmail.com
END:VEVENT
END:VCALENDAR