BEGIN:VCALENDAR
VERSION:2.0
PRODID:-//VivoEnMX - ECPv6.15.17//NONSGML v1.0//EN
CALSCALE:GREGORIAN
METHOD:PUBLISH
X-ORIGINAL-URL:https://vivoen.mx
X-WR-CALDESC:Eventos para VivoEnMX
REFRESH-INTERVAL;VALUE=DURATION:PT1H
X-Robots-Tag:noindex
X-PUBLISHED-TTL:PT1H
BEGIN:VTIMEZONE
TZID:America/New_York
BEGIN:DAYLIGHT
TZOFFSETFROM:-0500
TZOFFSETTO:-0400
TZNAME:EDT
DTSTART:20170312T070000
END:DAYLIGHT
BEGIN:STANDARD
TZOFFSETFROM:-0400
TZOFFSETTO:-0500
TZNAME:EST
DTSTART:20171105T060000
END:STANDARD
BEGIN:DAYLIGHT
TZOFFSETFROM:-0500
TZOFFSETTO:-0400
TZNAME:EDT
DTSTART:20180311T070000
END:DAYLIGHT
BEGIN:STANDARD
TZOFFSETFROM:-0400
TZOFFSETTO:-0500
TZNAME:EST
DTSTART:20181104T060000
END:STANDARD
BEGIN:DAYLIGHT
TZOFFSETFROM:-0500
TZOFFSETTO:-0400
TZNAME:EDT
DTSTART:20190310T070000
END:DAYLIGHT
BEGIN:STANDARD
TZOFFSETFROM:-0400
TZOFFSETTO:-0500
TZNAME:EST
DTSTART:20191103T060000
END:STANDARD
END:VTIMEZONE
BEGIN:VEVENT
DTSTART;TZID=America/New_York:20181026T190000
DTEND;TZID=America/New_York:20181026T220000
DTSTAMP:20260424T152412
CREATED:20181008T160013Z
LAST-MODIFIED:20181008T160013Z
UID:596107-1540580400-1540591200@vivoen.mx
SUMMARY:Support your local girl gang! + Capital Mujer
DESCRIPTION:🔊 CALLING ALL BUSINESS WOMEN 🔊\nWe rise by lifting others! \nUna vez más y en esta ocasión en alianza con Pirata FM Cancún damos voz a las mujeres emprendedoras del #SuresteCreativo en este tercer conversatorio: SUPPORT YOUR LOCAL GIRLGANG ! + CAPITAL PIRATA! \nBajo la dirección de Franz Borjas locutora de la radio con mayor audiencia en nuestro #SuresteCreativo \nPoco a poco se van sumando proyectos liderados por mujeres talentosas y exitosas para inspirarnos\, darnos sus tips y experiencia desde su profesión sobre como ha sido su emprender en Quintana Roo.\nTodo en un ambiente de networking y #Sororidad. \nVOL.3 WOMEN IN BUSINESS TALKS! \nMelissa Moreno / Deliquio (Artista)\nPaulina Ramírez / Studio Tangente (Diseñadora)\n+ Por confirmar no te pierdas el feed del evento. \n¿Te lo vas a perder?\n#SupportYourLocalGirlGang no es exclusivo para mujeres: todos son bienvenidos! \nSigue el feed del evento\, las redes sociales de Casa Diseño Nawala + Pirata FM Cancún y sobre todo no te pierdas la programación de Pirata FM donde podrás saber más acerca del perfil de cada expositora\, sorpresas y más info.\n–\n#PirataFM #SuresteCreativo #ExperienciaNawala \nLeobardo MartinezTrabajando por Cancun\, Coordinador de VivoEnCancun creador de VivoEnMX y LM Comunicación
URL:https://vivoen.mx/evento/support-your-local-girl-gang-capital-mujer/
LOCATION:Casa Diseño Nawala\, Sm3 Calle Mero #8\,\, Cancún\, Quintana Roo\, 77500\, México
CATEGORIES:Arte y Cultura,Cancún,Charlas
ATTACH;FMTTYPE=image/jpeg:https://vivoen.mx/wp-content/uploads/2018/10/Girl-gang.jpg
END:VEVENT
END:VCALENDAR