BEGIN:VCALENDAR
VERSION:2.0
PRODID:-//VivoEnMX - ECPv6.15.17//NONSGML v1.0//EN
CALSCALE:GREGORIAN
METHOD:PUBLISH
X-WR-CALNAME:VivoEnMX
X-ORIGINAL-URL:https://vivoen.mx
X-WR-CALDESC:Eventos para VivoEnMX
REFRESH-INTERVAL;VALUE=DURATION:PT1H
X-Robots-Tag:noindex
X-PUBLISHED-TTL:PT1H
BEGIN:VTIMEZONE
TZID:America/New_York
BEGIN:DAYLIGHT
TZOFFSETFROM:-0500
TZOFFSETTO:-0400
TZNAME:EDT
DTSTART:20170312T070000
END:DAYLIGHT
BEGIN:STANDARD
TZOFFSETFROM:-0400
TZOFFSETTO:-0500
TZNAME:EST
DTSTART:20171105T060000
END:STANDARD
BEGIN:DAYLIGHT
TZOFFSETFROM:-0500
TZOFFSETTO:-0400
TZNAME:EDT
DTSTART:20180311T070000
END:DAYLIGHT
BEGIN:STANDARD
TZOFFSETFROM:-0400
TZOFFSETTO:-0500
TZNAME:EST
DTSTART:20181104T060000
END:STANDARD
BEGIN:DAYLIGHT
TZOFFSETFROM:-0500
TZOFFSETTO:-0400
TZNAME:EDT
DTSTART:20190310T070000
END:DAYLIGHT
BEGIN:STANDARD
TZOFFSETFROM:-0400
TZOFFSETTO:-0500
TZNAME:EST
DTSTART:20191103T060000
END:STANDARD
END:VTIMEZONE
BEGIN:VEVENT
DTSTART;TZID=America/New_York:20181008T080000
DTEND;TZID=America/New_York:20181010T200000
DTSTAMP:20260424T152242
CREATED:20181008T150346Z
LAST-MODIFIED:20181008T150346Z
UID:596095-1538985600-1539201600@vivoen.mx
SUMMARY:Cancún Travel Mart
DESCRIPTION:Cancún Travel Mart es una feria para los viajes y el turismo en Cancún en los compradores de servicios turísticos cumplan con los proveedores de todo México. El objetivo de la exposición es promover el turismo en México. Los organizadores de la exposición ponen el acento en la creación de una relación equilibrada entre los compradores y proveedores\, por lo que ambas partes obtienen su cuota justa de los negocios. \nhttp://cancuntravelmart.com/\nFacebook: Cancun Travel Mart \nLeobardo MartinezTrabajando por Cancun\, Coordinador de VivoEnCancun creador de VivoEnMX y LM Comunicación
URL:https://vivoen.mx/evento/cancun-travel-mart/
LOCATION:Centro Convenciones Cancún\, Av. Bonampak Mz. 9 Lote 61 SM 61\, Cancún\, Quintana Roo\, 77500\, Mexico
CATEGORIES:Exposiciones
ATTACH;FMTTYPE=image/jpeg:https://vivoen.mx/wp-content/uploads/2018/10/Travel-Mart.jpg
ORGANIZER;CN="Canc%C3%BAn ICC":MAILTO:info@cancunicc.com
END:VEVENT
BEGIN:VEVENT
DTSTART;TZID=America/New_York:20181010T193000
DTEND;TZID=America/New_York:20181010T223000
DTSTAMP:20260424T152242
CREATED:20181008T151254Z
LAST-MODIFIED:20181008T151254Z
UID:596098-1539199800-1539210600@vivoen.mx
SUMMARY:Letras Rojas en #CoralesLabs
DESCRIPTION:Letras Rojas es el nombre de nuestro evento quincenal de lectura y laboratorio. \nLeobardo MartinezTrabajando por Cancun\, Coordinador de VivoEnCancun creador de VivoEnMX y LM Comunicación
URL:https://vivoen.mx/evento/letras-rojas-en-coraleslabs/
LOCATION:CoralesLabs\, calle 88 supermanzana 77 manzana 29 lote3\, Cancún\, Quintana Roo\, 77728\, México
CATEGORIES:Arte y Cultura,Cancún,Fotografia
ATTACH;FMTTYPE=image/jpeg:https://vivoen.mx/wp-content/uploads/2018/10/letras-rojas.jpg
END:VEVENT
END:VCALENDAR